BEGIN:VCALENDAR
VERSION:2.0
PRODID:-//Beau Chêne Homeowners Association | Mandeville, Louisiana - ECPv6.15.13//NONSGML v1.0//EN
CALSCALE:GREGORIAN
METHOD:PUBLISH
X-WR-CALNAME:Beau Chêne Homeowners Association | Mandeville, Louisiana
X-ORIGINAL-URL:https://bchoa.org
X-WR-CALDESC:Events for Beau Chêne Homeowners Association | Mandeville, Louisiana
REFRESH-INTERVAL;VALUE=DURATION:PT1H
X-Robots-Tag:noindex
X-PUBLISHED-TTL:PT1H
BEGIN:VTIMEZONE
TZID:America/Chicago
BEGIN:DAYLIGHT
TZOFFSETFROM:-0600
TZOFFSETTO:-0500
TZNAME:CDT
DTSTART:20230312T080000
END:DAYLIGHT
BEGIN:STANDARD
TZOFFSETFROM:-0500
TZOFFSETTO:-0600
TZNAME:CST
DTSTART:20231105T070000
END:STANDARD
BEGIN:DAYLIGHT
TZOFFSETFROM:-0600
TZOFFSETTO:-0500
TZNAME:CDT
DTSTART:20240310T080000
END:DAYLIGHT
BEGIN:STANDARD
TZOFFSETFROM:-0500
TZOFFSETTO:-0600
TZNAME:CST
DTSTART:20241103T070000
END:STANDARD
BEGIN:DAYLIGHT
TZOFFSETFROM:-0600
TZOFFSETTO:-0500
TZNAME:CDT
DTSTART:20250309T080000
END:DAYLIGHT
BEGIN:STANDARD
TZOFFSETFROM:-0500
TZOFFSETTO:-0600
TZNAME:CST
DTSTART:20251102T070000
END:STANDARD
END:VTIMEZONE
BEGIN:VEVENT
DTSTART;VALUE=DATE:20240902
DTEND;VALUE=DATE:20240903
DTSTAMP:20260421T062959
CREATED:20240318T144632Z
LAST-MODIFIED:20240318T152145Z
UID:2621-1725235200-1725321599@bchoa.org
SUMMARY:BCHOA Office Closed - Labor Day
DESCRIPTION:The BCHOA office will be closed on Monday\, September 2nd for Labor Day.  We will be open regular hours 8:00 AM till 5:00 PM (closed one hour for lunch) the rest of the week. \nFor any water or sewer emergencies please call our main number at 985- 231-6285 and press #3. \nFor all other emergencies: \nSecurity Guards at:\nMain Guard Gate              985-845-7560\nEast Guard Gate               985-845-8495\nMarina Guard Gate           985-845-7022 \nSheriff’s Office:\nNon-emergency                985-898-2338\nEMERGENCY                   911
URL:https://bchoa.org/event/bchoa-office-closed-labor-day-3/
END:VEVENT
BEGIN:VEVENT
DTSTART;TZID=America/Chicago:20240920T083000
DTEND;TZID=America/Chicago:20240920T110000
DTSTAMP:20260421T062959
CREATED:20240129T140729Z
LAST-MODIFIED:20240129T140729Z
UID:2598-1726821000-1726830000@bchoa.org
SUMMARY:BCHOA Board Meeting
DESCRIPTION:Regular Board Meeting starting at 8:30 AM at the Magnolia Room upstairs in the Beau Chene Country Club
URL:https://bchoa.org/event/bchoa-board-meeting-22/
LOCATION:Magnolia Room at Beau Chene Counrty Club
END:VEVENT
END:VCALENDAR