BEGIN:VCALENDAR
VERSION:2.0
PRODID:-//Beau Chêne Homeowners Association | Mandeville, Louisiana - ECPv6.15.13//NONSGML v1.0//EN
CALSCALE:GREGORIAN
METHOD:PUBLISH
X-ORIGINAL-URL:https://bchoa.org
X-WR-CALDESC:Events for Beau Chêne Homeowners Association | Mandeville, Louisiana
REFRESH-INTERVAL;VALUE=DURATION:PT1H
X-Robots-Tag:noindex
X-PUBLISHED-TTL:PT1H
BEGIN:VTIMEZONE
TZID:America/Chicago
BEGIN:DAYLIGHT
TZOFFSETFROM:-0600
TZOFFSETTO:-0500
TZNAME:CDT
DTSTART:20200308T080000
END:DAYLIGHT
BEGIN:STANDARD
TZOFFSETFROM:-0500
TZOFFSETTO:-0600
TZNAME:CST
DTSTART:20201101T070000
END:STANDARD
BEGIN:DAYLIGHT
TZOFFSETFROM:-0600
TZOFFSETTO:-0500
TZNAME:CDT
DTSTART:20210314T080000
END:DAYLIGHT
BEGIN:STANDARD
TZOFFSETFROM:-0500
TZOFFSETTO:-0600
TZNAME:CST
DTSTART:20211107T070000
END:STANDARD
BEGIN:DAYLIGHT
TZOFFSETFROM:-0600
TZOFFSETTO:-0500
TZNAME:CDT
DTSTART:20220313T080000
END:DAYLIGHT
BEGIN:STANDARD
TZOFFSETFROM:-0500
TZOFFSETTO:-0600
TZNAME:CST
DTSTART:20221106T070000
END:STANDARD
END:VTIMEZONE
BEGIN:VEVENT
DTSTART;TZID=America/Chicago:20211119T083000
DTEND;TZID=America/Chicago:20211119T110000
DTSTAMP:20260421T032955
CREATED:20210602T201621Z
LAST-MODIFIED:20210602T201621Z
UID:2184-1637310600-1637319600@bchoa.org
SUMMARY:BCHOA Board Meeting
DESCRIPTION:Regular Board Meeting 8:30 AM at the Magnolia Room upstairs in the Beau Chene Country Club
URL:https://bchoa.org/event/bchoa-board-meeting-9/
END:VEVENT
BEGIN:VEVENT
DTSTART;VALUE=DATE:20211125
DTEND;VALUE=DATE:20211127
DTSTAMP:20260421T032955
CREATED:20210602T202940Z
LAST-MODIFIED:20210602T203650Z
UID:2186-1637798400-1637971199@bchoa.org
SUMMARY:BCHOA OFFICE CLOSED FOR THANKSGIVING
DESCRIPTION:BCHOA Offices are closed on Thursday\, November 25th and Friday\, November 26th for Thanksgiving.  There will be garbage pickup as scheduled on Thursday.  For any water or sewer emergencies please call main number at 985-231-6285 and press #3 for Lindsey.  For all other emergencies call the Security Guards at: \nMain Guard Gate        985-845-7560 \nEast Guard Gate        985-845-8495 \nMarina Guard Gate  985-845-7022
URL:https://bchoa.org/event/bchoa-office-closed-for-thanksgiving/
END:VEVENT
END:VCALENDAR